Package: msgbsR Version: 1.34.0 Command: /home/biocbuild/R/R/bin/R CMD INSTALL msgbsR StartedAt: 2025-11-20 22:45:41 -0000 (Thu, 20 Nov 2025) EndedAt: 2025-11-20 22:46:59 -0000 (Thu, 20 Nov 2025) EllapsedTime: 78.6 seconds RetCode: 0 Status: OK