Package: msgbsR Version: 1.34.0 Command: /home/biocbuild/R/R/bin/R CMD build --keep-empty-dirs --no-resave-data msgbsR StartedAt: 2025-11-21 04:13:24 -0000 (Fri, 21 Nov 2025) EndedAt: 2025-11-21 04:15:26 -0000 (Fri, 21 Nov 2025) EllapsedTime: 122.0 seconds RetCode: 0 Status: OK PackageFile: msgbsR_1.34.0.tar.gz PackageFileSize: 15.25 MiB