Package: msgbsR Version: 1.33.1 Command: /home/biocbuild/bbs-3.22-bioc/R/bin/R CMD build --keep-empty-dirs --no-resave-data --md5 msgbsR StartedAt: 2025-10-27 18:52:53 -0400 (Mon, 27 Oct 2025) EndedAt: 2025-10-27 18:54:26 -0400 (Mon, 27 Oct 2025) EllapsedTime: 93.1 seconds RetCode: 0 Status: OK PackageFile: msgbsR_1.33.1.tar.gz PackageFileSize: 15.25 MiB