Package: msgbsR Version: 1.34.0 Command: /Library/Frameworks/R.framework/Resources/bin/R CMD INSTALL msgbsR StartedAt: 2025-11-03 15:48:06 -0500 (Mon, 03 Nov 2025) EndedAt: 2025-11-03 15:49:25 -0500 (Mon, 03 Nov 2025) EllapsedTime: 79.5 seconds RetCode: 0 Status: OK