Package: msgbsR Version: 1.34.0 Command: /Library/Frameworks/R.framework/Resources/bin/R CMD build --keep-empty-dirs --no-resave-data msgbsR StartedAt: 2025-11-03 17:55:04 -0500 (Mon, 03 Nov 2025) EndedAt: 2025-11-03 17:57:19 -0500 (Mon, 03 Nov 2025) EllapsedTime: 134.9 seconds RetCode: 0 Status: OK PackageFile: msgbsR_1.34.0.tar.gz PackageFileSize: 15.25 MiB