Package: msgbsR Version: 1.33.1 Command: /Library/Frameworks/R.framework/Resources/bin/R CMD INSTALL msgbsR StartedAt: 2025-10-27 15:27:24 -0400 (Mon, 27 Oct 2025) EndedAt: 2025-10-27 15:27:48 -0400 (Mon, 27 Oct 2025) EllapsedTime: 24.0 seconds RetCode: 0 Status: OK