Package: msgbsR Version: 1.33.1 Command: /Library/Frameworks/R.framework/Resources/bin/R CMD build --keep-empty-dirs --no-resave-data msgbsR StartedAt: 2025-10-27 17:07:44 -0400 (Mon, 27 Oct 2025) EndedAt: 2025-10-27 17:08:25 -0400 (Mon, 27 Oct 2025) EllapsedTime: 40.5 seconds RetCode: 0 Status: OK PackageFile: msgbsR_1.33.1.tar.gz PackageFileSize: 15.25 MiB