Package: msgbsR Version: 1.34.0 Maintainer: Benjamin Mayne MaintainerEmail: benjamin.mayne at adelaide.edu.au git_url: https://git.bioconductor.org/packages/msgbsR git_branch: RELEASE_3_22 git_last_commit: 1016b01 git_last_commit_date: 2025-10-29 10:38:42 -0500 (Wed, 29 Oct 2025)