Package: mpra Version: 1.32.0 Command: /home/biocbuild/bbs-3.22-bioc/R/bin/R CMD INSTALL mpra StartedAt: 2025-11-14 15:19:47 -0500 (Fri, 14 Nov 2025) EndedAt: 2025-11-14 15:20:12 -0500 (Fri, 14 Nov 2025) EllapsedTime: 25.3 seconds RetCode: 0 Status: OK