Package: motifbreakR Version: 2.24.0 Command: /home/biocbuild/bbs-3.22-bioc/R/bin/R CMD INSTALL motifbreakR StartedAt: 2025-11-25 16:20:26 -0500 (Tue, 25 Nov 2025) EndedAt: 2025-11-25 16:21:36 -0500 (Tue, 25 Nov 2025) EllapsedTime: 69.7 seconds RetCode: 0 Status: OK