Package: motifTestR Version: 1.6.0 Command: /home/biocbuild/bbs-3.22-bioc/R/bin/R CMD INSTALL motifTestR StartedAt: 2025-11-02 15:33:37 -0500 (Sun, 02 Nov 2025) EndedAt: 2025-11-02 15:33:56 -0500 (Sun, 02 Nov 2025) EllapsedTime: 18.9 seconds RetCode: 0 Status: OK