Package: motifTestR Version: 1.6.0 Command: /home/biocbuild/bbs-3.22-bioc/R/bin/R CMD build --keep-empty-dirs --no-resave-data --md5 motifTestR StartedAt: 2025-11-02 19:05:51 -0500 (Sun, 02 Nov 2025) EndedAt: 2025-11-02 19:07:11 -0500 (Sun, 02 Nov 2025) EllapsedTime: 80.0 seconds RetCode: 0 Status: OK PackageFile: motifTestR_1.6.0.tar.gz PackageFileSize: 1.034 MiB