Package: motifStack Version: 1.54.0 Command: /Library/Frameworks/R.framework/Resources/bin/R CMD INSTALL motifStack StartedAt: 2025-11-03 15:48:04 -0500 (Mon, 03 Nov 2025) EndedAt: 2025-11-03 15:49:09 -0500 (Mon, 03 Nov 2025) EllapsedTime: 64.6 seconds RetCode: 0 Status: OK