Package: motifStack Version: 1.54.0 Command: /Library/Frameworks/R.framework/Resources/bin/R CMD build --keep-empty-dirs --no-resave-data motifStack StartedAt: 2025-11-03 17:52:18 -0500 (Mon, 03 Nov 2025) EndedAt: 2025-11-03 17:55:09 -0500 (Mon, 03 Nov 2025) EllapsedTime: 171.2 seconds RetCode: 0 Status: OK PackageFile: motifStack_1.54.0.tar.gz PackageFileSize: 3.846 MiB