Package: motifStack Version: 1.54.0 Command: rm -rf motifStack.buildbin-libdir && mkdir motifStack.buildbin-libdir && /Users/biocbuild/BBS/utils/build-universal.sh motifStack_1.54.0.tar.gz /Library/Frameworks/R.framework/Resources/bin/R motifStack.buildbin-libdir StartedAt: 2025-11-04 01:51:16 -0500 (Tue, 04 Nov 2025) EndedAt: 2025-11-04 01:52:24 -0500 (Tue, 04 Nov 2025) EllapsedTime: 68.0 seconds RetCode: 0 Status: OK PackageFile: motifStack_1.54.0.tgz PackageFileSize: 4.729 MiB