Package: motifStack Version: 1.53.2 Command: /Library/Frameworks/R.framework/Resources/bin/R CMD INSTALL motifStack StartedAt: 2025-10-26 15:27:36 -0400 (Sun, 26 Oct 2025) EndedAt: 2025-10-26 15:27:56 -0400 (Sun, 26 Oct 2025) EllapsedTime: 19.7 seconds RetCode: 0 Status: OK