Package: motifStack Version: 1.53.2 Command: rm -rf motifStack.buildbin-libdir && mkdir motifStack.buildbin-libdir && /Users/biocbuild/BBS/utils/build-universal.sh motifStack_1.53.2.tar.gz /Library/Frameworks/R.framework/Resources/bin/R motifStack.buildbin-libdir StartedAt: 2025-10-26 22:41:56 -0400 (Sun, 26 Oct 2025) EndedAt: 2025-10-26 22:42:16 -0400 (Sun, 26 Oct 2025) EllapsedTime: 20.4 seconds RetCode: 0 Status: OK PackageFile: motifStack_1.53.2.tgz PackageFileSize: 4.684 MiB