Package: motifStack Version: 1.54.0 Command: /Library/Frameworks/R.framework/Resources/bin/R CMD INSTALL motifStack StartedAt: 2025-11-17 18:23:26 -0500 (Mon, 17 Nov 2025) EndedAt: 2025-11-17 18:23:44 -0500 (Mon, 17 Nov 2025) EllapsedTime: 18.3 seconds RetCode: 0 Status: OK