Package: motifStack Version: 1.54.0 Command: /Library/Frameworks/R.framework/Resources/bin/R CMD build --keep-empty-dirs --no-resave-data motifStack StartedAt: 2025-11-17 23:05:48 -0500 (Mon, 17 Nov 2025) EndedAt: 2025-11-17 23:06:37 -0500 (Mon, 17 Nov 2025) EllapsedTime: 49.5 seconds RetCode: 0 Status: OK PackageFile: motifStack_1.54.0.tar.gz PackageFileSize: 3.944 MiB