Package: monocle Version: 2.38.0 Command: /home/biocbuild/bbs-3.22-bioc/R/bin/R CMD INSTALL monocle StartedAt: 2025-11-20 16:04:29 -0500 (Thu, 20 Nov 2025) EndedAt: 2025-11-20 16:04:50 -0500 (Thu, 20 Nov 2025) EllapsedTime: 21.1 seconds RetCode: 0 Status: OK