Package: mnem Version: 1.26.0 Command: /home/biocbuild/bbs-3.22-bioc/R/bin/R CMD build --keep-empty-dirs --no-resave-data --md5 mnem StartedAt: 2025-11-02 19:01:45 -0500 (Sun, 02 Nov 2025) EndedAt: 2025-11-02 19:02:51 -0500 (Sun, 02 Nov 2025) EllapsedTime: 66.1 seconds RetCode: 0 Status: OK PackageFile: mnem_1.26.0.tar.gz PackageFileSize: 4.755 MiB