Package: mixOmics Version: 6.34.0 Command: /home/biocbuild/bbs-3.22-bioc/R/bin/R CMD INSTALL mixOmics StartedAt: 2025-11-17 17:04:50 -0500 (Mon, 17 Nov 2025) EndedAt: 2025-11-17 17:05:23 -0500 (Mon, 17 Nov 2025) EllapsedTime: 33.9 seconds RetCode: 0 Status: OK