Package: mixOmics Version: 6.34.0 Command: /home/biocbuild/bbs-3.22-bioc/R/bin/R CMD build --keep-empty-dirs --no-resave-data --md5 mixOmics StartedAt: 2025-11-17 22:07:15 -0500 (Mon, 17 Nov 2025) EndedAt: 2025-11-17 22:18:52 -0500 (Mon, 17 Nov 2025) EllapsedTime: 697.5 seconds RetCode: 0 Status: OK PackageFile: mixOmics_6.34.0.tar.gz PackageFileSize: 19.05 MiB