Package: mitch Version: 1.22.0 Command: /home/biocbuild/bbs-3.22-bioc/R/bin/R CMD build --keep-empty-dirs --no-resave-data --md5 mitch StartedAt: 2025-11-02 18:59:46 -0500 (Sun, 02 Nov 2025) EndedAt: 2025-11-02 19:05:01 -0500 (Sun, 02 Nov 2025) EllapsedTime: 315.3 seconds RetCode: 0 Status: OK PackageFile: mitch_1.22.0.tar.gz PackageFileSize: 1.103 MiB