Package: mistyR Version: 1.18.0 Command: /home/biocbuild/bbs-3.22-bioc/R/bin/R CMD build --keep-empty-dirs --no-resave-data --md5 mistyR StartedAt: 2025-11-25 19:13:31 -0500 (Tue, 25 Nov 2025) EndedAt: 2025-11-25 19:15:34 -0500 (Tue, 25 Nov 2025) EllapsedTime: 123.1 seconds RetCode: 0 Status: OK PackageFile: mistyR_1.18.0.tar.gz PackageFileSize: 2.975 MiB