Package: mirTarRnaSeq Version: 1.18.0 Command: /home/biocbuild/bbs-3.22-bioc/R/bin/R CMD INSTALL mirTarRnaSeq StartedAt: 2025-11-06 15:08:10 -0500 (Thu, 06 Nov 2025) EndedAt: 2025-11-06 15:08:21 -0500 (Thu, 06 Nov 2025) EllapsedTime: 11.1 seconds RetCode: 0 Status: OK