Package: mirTarRnaSeq Version: 1.18.0 Command: /home/biocbuild/bbs-3.22-bioc/R/bin/R CMD build --keep-empty-dirs --no-resave-data --md5 mirTarRnaSeq StartedAt: 2025-11-06 18:43:44 -0500 (Thu, 06 Nov 2025) EndedAt: 2025-11-06 18:46:34 -0500 (Thu, 06 Nov 2025) EllapsedTime: 170.1 seconds RetCode: 0 Status: OK PackageFile: mirTarRnaSeq_1.18.0.tar.gz PackageFileSize: 3.432 MiB