Package: mirIntegrator Version: 1.40.0 Command: /home/biocbuild/bbs-3.22-bioc/R/bin/R CMD INSTALL mirIntegrator StartedAt: 2025-11-02 15:38:10 -0500 (Sun, 02 Nov 2025) EndedAt: 2025-11-02 15:38:32 -0500 (Sun, 02 Nov 2025) EllapsedTime: 22.9 seconds RetCode: 0 Status: OK