Package: mirIntegrator Version: 1.40.0 Command: /home/biocbuild/bbs-3.22-bioc/R/bin/R CMD build --keep-empty-dirs --no-resave-data --md5 mirIntegrator StartedAt: 2025-11-02 18:58:54 -0500 (Sun, 02 Nov 2025) EndedAt: 2025-11-02 18:59:53 -0500 (Sun, 02 Nov 2025) EllapsedTime: 59.1 seconds RetCode: 0 Status: OK PackageFile: mirIntegrator_1.40.0.tar.gz PackageFileSize: 1.809 MiB