Package: mina Version: 1.18.0 Command: /home/biocbuild/bbs-3.22-bioc/R/bin/R CMD INSTALL mina StartedAt: 2025-11-06 15:11:13 -0500 (Thu, 06 Nov 2025) EndedAt: 2025-11-06 15:11:43 -0500 (Thu, 06 Nov 2025) EllapsedTime: 30.1 seconds RetCode: 0 Status: OK