Package: mimager Version: 1.34.0 Command: /home/biocbuild/bbs-3.22-bioc/R/bin/R CMD INSTALL mimager StartedAt: 2025-11-06 15:22:12 -0500 (Thu, 06 Nov 2025) EndedAt: 2025-11-06 15:22:39 -0500 (Thu, 06 Nov 2025) EllapsedTime: 27.4 seconds RetCode: 0 Status: OK