Package: mimager Version: 1.34.0 Command: /home/biocbuild/bbs-3.22-bioc/R/bin/R CMD build --keep-empty-dirs --no-resave-data --md5 mimager StartedAt: 2025-11-06 18:41:26 -0500 (Thu, 06 Nov 2025) EndedAt: 2025-11-06 18:42:22 -0500 (Thu, 06 Nov 2025) EllapsedTime: 56.0 seconds RetCode: 0 Status: OK PackageFile: mimager_1.34.0.tar.gz PackageFileSize: 659.4 KiB