Package: miloR Version: 2.6.0 Command: /home/biocbuild/bbs-3.22-bioc/R/bin/R CMD INSTALL miloR StartedAt: 2025-10-31 16:04:04 -0400 (Fri, 31 Oct 2025) EndedAt: 2025-10-31 16:06:18 -0400 (Fri, 31 Oct 2025) EllapsedTime: 134.4 seconds RetCode: 0 Status: OK