Package: miloR Version: 2.6.0 Command: /home/biocbuild/bbs-3.22-bioc/R/bin/R CMD build --keep-empty-dirs --no-resave-data --md5 miloR StartedAt: 2025-10-31 18:51:14 -0400 (Fri, 31 Oct 2025) EndedAt: 2025-10-31 19:07:03 -0400 (Fri, 31 Oct 2025) EllapsedTime: 949.8 seconds RetCode: 0 Status: OK PackageFile: miloR_2.6.0.tar.gz PackageFileSize: 7.19 MiB