Package: midasHLA Version: 1.18.0 Command: /home/biocbuild/bbs-3.22-bioc/R/bin/R CMD INSTALL midasHLA StartedAt: 2025-10-30 15:23:01 -0400 (Thu, 30 Oct 2025) EndedAt: 2025-10-30 15:23:37 -0400 (Thu, 30 Oct 2025) EllapsedTime: 36.2 seconds RetCode: 0 Status: OK