Package: midasHLA Version: 1.18.0 Command: /home/biocbuild/bbs-3.22-bioc/R/bin/R CMD build --keep-empty-dirs --no-resave-data --md5 midasHLA StartedAt: 2025-10-30 18:41:36 -0400 (Thu, 30 Oct 2025) EndedAt: 2025-10-30 18:43:51 -0400 (Thu, 30 Oct 2025) EllapsedTime: 135.1 seconds RetCode: 0 Status: OK PackageFile: midasHLA_1.18.0.tar.gz PackageFileSize: 1.896 MiB