Package: microbiomeExplorer Version: 1.19.0 Command: /home/biocbuild/bbs-3.22-bioc/R/bin/R CMD INSTALL microbiomeExplorer StartedAt: 2025-10-27 15:27:10 -0400 (Mon, 27 Oct 2025) EndedAt: 2025-10-27 15:27:22 -0400 (Mon, 27 Oct 2025) EllapsedTime: 11.8 seconds RetCode: 0 Status: OK