Package: microSTASIS Version: 1.9.0 Command: /home/biocbuild/bbs-3.22-bioc/R/bin/R CMD INSTALL microSTASIS StartedAt: 2025-10-24 15:35:16 -0400 (Fri, 24 Oct 2025) EndedAt: 2025-10-24 15:35:19 -0400 (Fri, 24 Oct 2025) EllapsedTime: 3.1 seconds RetCode: 0 Status: OK