Package: microSTASIS Version: 1.10.0 Command: /Library/Frameworks/R.framework/Resources/bin/R CMD INSTALL microSTASIS StartedAt: 2025-11-10 15:15:23 -0500 (Mon, 10 Nov 2025) EndedAt: 2025-11-10 15:15:25 -0500 (Mon, 10 Nov 2025) EllapsedTime: 1.7 seconds RetCode: 0 Status: OK