Package: microSTASIS Version: 1.10.0 Command: /Library/Frameworks/R.framework/Resources/bin/R CMD build --keep-empty-dirs --no-resave-data microSTASIS StartedAt: 2025-11-10 17:01:47 -0500 (Mon, 10 Nov 2025) EndedAt: 2025-11-10 17:02:31 -0500 (Mon, 10 Nov 2025) EllapsedTime: 44.5 seconds RetCode: 0 Status: OK PackageFile: microSTASIS_1.10.0.tar.gz PackageFileSize: 1.406 MiB