Package: methylPipe Version: 1.44.0 Command: /home/biocbuild/bbs-3.22-bioc/R/bin/R CMD INSTALL methylPipe StartedAt: 2025-11-14 15:50:53 -0500 (Fri, 14 Nov 2025) EndedAt: 2025-11-14 15:51:48 -0500 (Fri, 14 Nov 2025) EllapsedTime: 55.2 seconds RetCode: 0 Status: OK