Package: methylPipe Version: 1.44.0 Command: /home/biocbuild/bbs-3.22-bioc/R/bin/R CMD build --keep-empty-dirs --no-resave-data --md5 methylPipe StartedAt: 2025-11-14 18:41:17 -0500 (Fri, 14 Nov 2025) EndedAt: 2025-11-14 18:43:55 -0500 (Fri, 14 Nov 2025) EllapsedTime: 158.1 seconds RetCode: 0 Status: OK PackageFile: methylPipe_1.44.0.tar.gz PackageFileSize: 796.2 KiB