Package: methylKit Version: 1.36.0 Command: /home/biocbuild/bbs-3.22-bioc/R/bin/R CMD INSTALL methylKit StartedAt: 2025-10-31 15:36:23 -0400 (Fri, 31 Oct 2025) EndedAt: 2025-10-31 15:37:28 -0400 (Fri, 31 Oct 2025) EllapsedTime: 64.8 seconds RetCode: 0 Status: OK