Package: methylKit Version: 1.36.0 Command: /home/biocbuild/bbs-3.22-bioc/R/bin/R CMD build --keep-empty-dirs --no-resave-data --md5 methylKit StartedAt: 2025-10-31 18:46:49 -0400 (Fri, 31 Oct 2025) EndedAt: 2025-10-31 18:48:15 -0400 (Fri, 31 Oct 2025) EllapsedTime: 86.0 seconds RetCode: 0 Status: OK PackageFile: methylKit_1.36.0.tar.gz PackageFileSize: 1.347 MiB