Package: methylInheritance Version: 1.34.0 Command: /home/biocbuild/R/R/bin/R CMD INSTALL methylInheritance StartedAt: 2025-11-13 21:36:42 -0000 (Thu, 13 Nov 2025) EndedAt: 2025-11-13 21:37:33 -0000 (Thu, 13 Nov 2025) EllapsedTime: 50.8 seconds RetCode: 0 Status: OK