Package: methylInheritance Version: 1.34.0 Command: /home/biocbuild/bbs-3.22-bioc/R/bin/R CMD check --install=check:methylInheritance.install-out.txt --library=/home/biocbuild/bbs-3.22-bioc/R/site-library --timings methylInheritance_1.34.0.tar.gz StartedAt: 2025-11-21 02:01:11 -0500 (Fri, 21 Nov 2025) EndedAt: 2025-11-21 02:10:42 -0500 (Fri, 21 Nov 2025) EllapsedTime: 571.5 seconds RetCode: 0 Status: OK CheckDir: methylInheritance.Rcheck Warnings: 0