Package: methylInheritance Version: 1.33.1 Command: /home/biocbuild/bbs-3.22-bioc/R/bin/R CMD build --keep-empty-dirs --no-resave-data --md5 methylInheritance StartedAt: 2025-10-24 18:45:57 -0400 (Fri, 24 Oct 2025) EndedAt: 2025-10-24 18:47:16 -0400 (Fri, 24 Oct 2025) EllapsedTime: 78.0 seconds RetCode: 0 Status: OK PackageFile: methylInheritance_1.33.1.tar.gz PackageFileSize: 1.712 MiB