Package: methylInheritance Version: 1.33.1 Command: /Library/Frameworks/R.framework/Resources/bin/R CMD build --keep-empty-dirs --no-resave-data methylInheritance StartedAt: 2025-10-24 17:44:53 -0400 (Fri, 24 Oct 2025) EndedAt: 2025-10-24 17:46:19 -0400 (Fri, 24 Oct 2025) EllapsedTime: 86.7 seconds RetCode: 0 Status: OK PackageFile: methylInheritance_1.33.1.tar.gz PackageFileSize: 1.708 MiB