Package: methylInheritance Version: 1.33.1 Command: rm -rf methylInheritance.buildbin-libdir && mkdir methylInheritance.buildbin-libdir && /Users/biocbuild/BBS/utils/build-universal.sh methylInheritance_1.33.1.tar.gz /Library/Frameworks/R.framework/Resources/bin/R methylInheritance.buildbin-libdir StartedAt: 2025-10-25 01:49:05 -0400 (Sat, 25 Oct 2025) EndedAt: 2025-10-25 01:49:59 -0400 (Sat, 25 Oct 2025) EllapsedTime: 54.3 seconds RetCode: 0 Status: OK PackageFile: methylInheritance_1.33.1.tgz PackageFileSize: 1.826 MiB