Package: methylInheritance Version: 1.33.1 Command: /Library/Frameworks/R.framework/Resources/bin/R CMD build --keep-empty-dirs --no-resave-data methylInheritance StartedAt: 2025-10-26 17:10:07 -0400 (Sun, 26 Oct 2025) EndedAt: 2025-10-26 17:10:36 -0400 (Sun, 26 Oct 2025) EllapsedTime: 29.3 seconds RetCode: 0 Status: OK PackageFile: methylInheritance_1.33.1.tar.gz PackageFileSize: 1.708 MiB